BEGIN:VCALENDAR
VERSION:2.0
PRODID:-// - ECPv6.15.20//NONSGML v1.0//EN
CALSCALE:GREGORIAN
METHOD:PUBLISH
X-ORIGINAL-URL:https://connect.brainart.co
X-WR-CALDESC:Events for 
REFRESH-INTERVAL;VALUE=DURATION:PT1H
X-Robots-Tag:noindex
X-PUBLISHED-TTL:PT1H
BEGIN:VTIMEZONE
TZID:UTC
BEGIN:STANDARD
TZOFFSETFROM:+0000
TZOFFSETTO:+0000
TZNAME:UTC
DTSTART:20230101T000000
END:STANDARD
END:VTIMEZONE
BEGIN:VEVENT
DTSTART;TZID=UTC:20251110T103000
DTEND;TZID=UTC:20251110T123000
DTSTAMP:20260424T030412
CREATED:20251031T060340Z
LAST-MODIFIED:20251107T140327Z
UID:1308-1762770600-1762777800@connect.brainart.co
SUMMARY:Tanjore Painting Workshop | BrainArt Studio HSR Layout
DESCRIPTION: \n\n\n\n								\n				\n					\n				\n		\n					\n				\n				\n																														\n				\n					\n				\n		\n					\n				\n				\n									Experience the magic of Claude Monet’s world in this 4-hour guided art session designed for both kids and adults. Dive into the Impressionist style that changed modern art..  full of vibrant color\, light\, and expressive brushwork. At BrainArt\, we bring Monet’s techniques to life in a relaxed\, creative setting. Whether you’re an absolute beginner or a hobby artist\, you’ll learn how to paint with freedom\, emotion\, and confidence just like Monet.  								\n				\n					\n				\n		\n					\n				\n				\n					What You’ll Learn				\n				\n				\n				\n							\n							\n											\n													\n										Brushstroke and layering techniques inspired by Monet’s Impressionism\n									\n								\n											\n													\n										Color mixing and light composition for stunning visual impact\n									\n								\n											\n													\n										How to paint water lilies\, gardens\, and serene landscapes\n									\n								\n											\n													\n										Guided step-by-step demonstration with personal mentoring\n									\n						\n						\n				\n					\n				\n		\n					\n				\n				\n					📍 Workshop Details				\n				\n		\n		\n				\n				\n									Venue: BrainArt Studio\, HSR Layout\, BangaloreDates: 9th November 2025Time: 10:30 AM – 2:30 PMFees: ₹2000/- (all materials included)  								\n				\n				\n		\n				\n				\n					Secure & Fast Checkout				\n				\n				\n				\n									\n					\n						\n									Buy It Now\n					\n					\n				\n								\n				\n				\n				\n					\n				\n		\n					\n				\n				\n					FAQ Section				\n				\n				\n				\n							\n						\n				\n					 What is a Monet Painting Workshop? \n							\n			\n			\n		\n\n						\n				\n		\n					\n				\n				\n									A guided art session inspired by Claude Monet’s Impressionist style\, where participants learn color blending\, brush techniques\, and light composition to create their own Monet-style artwork.  								\n				\n					\n				\n				\n					\n						\n				\n					 Do I need any painting experience? \n							\n			\n			\n		\n\n						\n				\n		\n					\n				\n				\n									No experience is needed ..  this workshop is perfect for beginners and enthusiasts alike.    								\n				\n					\n				\n				\n					\n						\n				\n					 Will materials be provided? \n							\n			\n			\n		\n\n						\n				\n		\n					\n				\n				\n									Yes\, all art materials including brushes\, paints\, and canvas are provided. 								\n				\n					\n				\n				\n					\n						\n				\n					 Is this workshop suitable for complete beginners? \n							\n			\n			\n		\n\n						\n				\n		\n					\n				\n				\n									Absolutely. Our instructors guide you step-by-step through the process. it’s beginner-friendly and fun.  								\n				\n					\n				\n				\n					\n						\n				\n					 How do I register for the workshop? \n							\n			\n			\n		\n\n						\n				\n		\n					\n				\n				\n									You can register online through our website or contact us via WhatsApp/call at 9972944894. Early registration is recommended\, as seats are limited.  								\n				\n					\n				\n				\n					\n						\n				\n					 Do you offer regular painting classes in Bangalore? \n							\n			\n			\n		\n\n						\n				\n		\n					\n				\n				\n									Yes\, BrainArt conducts weekly and monthly art classes for kids\, teens\, and adults at our Bangalore studio. Check our website http://brainart.co  
URL:https://connect.brainart.co/event/tanjore-painting-workshop-brainart-studio-hsr-layout/
LOCATION:BrainArt
CATEGORIES:Event,Painting,tanjore
ATTACH;FMTTYPE=image/jpeg:https://connect.brainart.co/wp-content/uploads/2025/10/tanjore_Featured.jpg
ORGANIZER;CN="Pavithra":MAILTO:pavithra@brainart.co
END:VEVENT
BEGIN:VEVENT
DTSTART;TZID=UTC:20251109T103000
DTEND;TZID=UTC:20251109T143000
DTSTAMP:20260424T030412
CREATED:20251107T121132Z
LAST-MODIFIED:20251107T140705Z
UID:1338-1762684200-1762698600@connect.brainart.co
SUMMARY:Paint like monet
DESCRIPTION: \n\n\n\n								\n				\n					\n				\n		\n					\n				\n				\n																														\n				\n					\n				\n		\n					\n				\n				\n									Experience the magic of Claude Monet’s world in this 4-hour guided art session designed for both kids and adults. Dive into the Impressionist style that changed modern art..  full of vibrant color\, light\, and expressive brushwork. At BrainArt\, we bring Monet’s techniques to life in a relaxed\, creative setting. Whether you’re an absolute beginner or a hobby artist\, you’ll learn how to paint with freedom\, emotion\, and confidence just like Monet.  								\n				\n					\n				\n		\n					\n				\n				\n					What You’ll Learn				\n				\n				\n				\n							\n							\n											\n													\n										Brushstroke and layering techniques inspired by Monet’s Impressionism\n									\n								\n											\n													\n										Color mixing and light composition for stunning visual impact\n									\n								\n											\n													\n										How to paint water lilies\, gardens\, and serene landscapes\n									\n								\n											\n													\n										Guided step-by-step demonstration with personal mentoring\n									\n						\n						\n				\n					\n				\n		\n					\n				\n				\n					📍 Workshop Details				\n				\n		\n		\n				\n				\n									Venue: BrainArt Studio\, HSR Layout\, BangaloreDates: 9th November 2025Time: 10:30 AM – 2:30 PMFees: ₹2000/- (all materials included)  								\n				\n				\n		\n				\n				\n					Secure & Fast Checkout				\n				\n				\n				\n									\n					\n						\n									Buy It Now\n					\n					\n				\n								\n				\n				\n				\n					\n				\n		\n					\n				\n				\n					FAQ Section				\n				\n				\n				\n							\n						\n				\n					 What is a Monet Painting Workshop? \n							\n			\n			\n		\n\n						\n				\n		\n					\n				\n				\n									A guided art session inspired by Claude Monet’s Impressionist style\, where participants learn color blending\, brush techniques\, and light composition to create their own Monet-style artwork.  								\n				\n					\n				\n				\n					\n						\n				\n					 Do I need any painting experience? \n							\n			\n			\n		\n\n						\n				\n		\n					\n				\n				\n									No experience is needed ..  this workshop is perfect for beginners and enthusiasts alike.    								\n				\n					\n				\n				\n					\n						\n				\n					 Will materials be provided? \n							\n			\n			\n		\n\n						\n				\n		\n					\n				\n				\n									Yes\, all art materials including brushes\, paints\, and canvas are provided. 								\n				\n					\n				\n				\n					\n						\n				\n					 Is this workshop suitable for complete beginners? \n							\n			\n			\n		\n\n						\n				\n		\n					\n				\n				\n									Absolutely. Our instructors guide you step-by-step through the process. it’s beginner-friendly and fun.  								\n				\n					\n				\n				\n					\n						\n				\n					 How do I register for the workshop? \n							\n			\n			\n		\n\n						\n				\n		\n					\n				\n				\n									You can register online through our website or contact us via WhatsApp/call at 9972944894. Early registration is recommended\, as seats are limited.  								\n				\n					\n				\n				\n					\n						\n				\n					 Do you offer regular painting classes in Bangalore? \n							\n			\n			\n		\n\n						\n				\n		\n					\n				\n				\n									Yes\, BrainArt conducts weekly and monthly art classes for kids\, teens\, and adults at our Bangalore studio. Check our website http://brainart.co  
URL:https://connect.brainart.co/event/paint-like-monet/
LOCATION:BrainArt
CATEGORIES:Acrylic Painting,Event,Painting
ATTACH;FMTTYPE=image/jpeg:https://connect.brainart.co/wp-content/uploads/2025/11/featured_monet.jpg
ORGANIZER;CN="Pavithra":MAILTO:pavithra@brainart.co
END:VEVENT
BEGIN:VEVENT
DTSTART;TZID=UTC:20241027T103000
DTEND;TZID=UTC:20241124T130000
DTSTAMP:20260424T030412
CREATED:20240928T122225Z
LAST-MODIFIED:20241016T082754Z
UID:556-1730025000-1732453200@connect.brainart.co
SUMMARY:Master the Art of Tanjore Painting in 5 Weeks
DESCRIPTION: \n\n\n\n								\n				\n					\n				\n		\n					\n				\n				\n																														\n				\n					\n				\n		\n					\n				\n				\n									Experience the magic of Claude Monet’s world in this 4-hour guided art session designed for both kids and adults. Dive into the Impressionist style that changed modern art..  full of vibrant color\, light\, and expressive brushwork. At BrainArt\, we bring Monet’s techniques to life in a relaxed\, creative setting. Whether you’re an absolute beginner or a hobby artist\, you’ll learn how to paint with freedom\, emotion\, and confidence just like Monet.  								\n				\n					\n				\n		\n					\n				\n				\n					What You’ll Learn				\n				\n				\n				\n							\n							\n											\n													\n										Brushstroke and layering techniques inspired by Monet’s Impressionism\n									\n								\n											\n													\n										Color mixing and light composition for stunning visual impact\n									\n								\n											\n													\n										How to paint water lilies\, gardens\, and serene landscapes\n									\n								\n											\n													\n										Guided step-by-step demonstration with personal mentoring\n									\n						\n						\n				\n					\n				\n		\n					\n				\n				\n					📍 Workshop Details				\n				\n		\n		\n				\n				\n									Venue: BrainArt Studio\, HSR Layout\, BangaloreDates: 9th November 2025Time: 10:30 AM – 2:30 PMFees: ₹2000/- (all materials included)  								\n				\n				\n		\n				\n				\n					Secure & Fast Checkout				\n				\n				\n				\n									\n					\n						\n									Buy It Now\n					\n					\n				\n								\n				\n				\n				\n					\n				\n		\n					\n				\n				\n					FAQ Section				\n				\n				\n				\n							\n						\n				\n					 What is a Monet Painting Workshop? \n							\n			\n			\n		\n\n						\n				\n		\n					\n				\n				\n									A guided art session inspired by Claude Monet’s Impressionist style\, where participants learn color blending\, brush techniques\, and light composition to create their own Monet-style artwork.  								\n				\n					\n				\n				\n					\n						\n				\n					 Do I need any painting experience? \n							\n			\n			\n		\n\n						\n				\n		\n					\n				\n				\n									No experience is needed ..  this workshop is perfect for beginners and enthusiasts alike.    								\n				\n					\n				\n				\n					\n						\n				\n					 Will materials be provided? \n							\n			\n			\n		\n\n						\n				\n		\n					\n				\n				\n									Yes\, all art materials including brushes\, paints\, and canvas are provided. 								\n				\n					\n				\n				\n					\n						\n				\n					 Is this workshop suitable for complete beginners? \n							\n			\n			\n		\n\n						\n				\n		\n					\n				\n				\n									Absolutely. Our instructors guide you step-by-step through the process. it’s beginner-friendly and fun.  								\n				\n					\n				\n				\n					\n						\n				\n					 How do I register for the workshop? \n							\n			\n			\n		\n\n						\n				\n		\n					\n				\n				\n									You can register online through our website or contact us via WhatsApp/call at 9972944894. Early registration is recommended\, as seats are limited.  								\n				\n					\n				\n				\n					\n						\n				\n					 Do you offer regular painting classes in Bangalore? \n							\n			\n			\n		\n\n						\n				\n		\n					\n				\n				\n									Yes\, BrainArt conducts weekly and monthly art classes for kids\, teens\, and adults at our Bangalore studio. Check our website http://brainart.co  
URL:https://connect.brainart.co/event/art-of-tanjore-painting/
LOCATION:BrainArt
CATEGORIES:Course,Painting
ATTACH;FMTTYPE=image/jpeg:https://connect.brainart.co/wp-content/uploads/2024/09/featured-tanjore.jpg
END:VEVENT
BEGIN:VEVENT
DTSTART;TZID=UTC:20241007T110000
DTEND;TZID=UTC:20241011T130000
DTSTAMP:20260424T030412
CREATED:20240927T061959Z
LAST-MODIFIED:20240928T072001Z
UID:534-1728298800-1728651600@connect.brainart.co
SUMMARY:5 days workshop: Clay Ceramic art on mug and  Canvas painting
DESCRIPTION: \n\n\n\n								\n				\n					\n				\n		\n					\n				\n				\n																														\n				\n					\n				\n		\n					\n				\n				\n									Experience the magic of Claude Monet’s world in this 4-hour guided art session designed for both kids and adults. Dive into the Impressionist style that changed modern art..  full of vibrant color\, light\, and expressive brushwork. At BrainArt\, we bring Monet’s techniques to life in a relaxed\, creative setting. Whether you’re an absolute beginner or a hobby artist\, you’ll learn how to paint with freedom\, emotion\, and confidence just like Monet.  								\n				\n					\n				\n		\n					\n				\n				\n					What You’ll Learn				\n				\n				\n				\n							\n							\n											\n													\n										Brushstroke and layering techniques inspired by Monet’s Impressionism\n									\n								\n											\n													\n										Color mixing and light composition for stunning visual impact\n									\n								\n											\n													\n										How to paint water lilies\, gardens\, and serene landscapes\n									\n								\n											\n													\n										Guided step-by-step demonstration with personal mentoring\n									\n						\n						\n				\n					\n				\n		\n					\n				\n				\n					📍 Workshop Details				\n				\n		\n		\n				\n				\n									Venue: BrainArt Studio\, HSR Layout\, BangaloreDates: 9th November 2025Time: 10:30 AM – 2:30 PMFees: ₹2000/- (all materials included)  								\n				\n				\n		\n				\n				\n					Secure & Fast Checkout				\n				\n				\n				\n									\n					\n						\n									Buy It Now\n					\n					\n				\n								\n				\n				\n				\n					\n				\n		\n					\n				\n				\n					FAQ Section				\n				\n				\n				\n							\n						\n				\n					 What is a Monet Painting Workshop? \n							\n			\n			\n		\n\n						\n				\n		\n					\n				\n				\n									A guided art session inspired by Claude Monet’s Impressionist style\, where participants learn color blending\, brush techniques\, and light composition to create their own Monet-style artwork.  								\n				\n					\n				\n				\n					\n						\n				\n					 Do I need any painting experience? \n							\n			\n			\n		\n\n						\n				\n		\n					\n				\n				\n									No experience is needed ..  this workshop is perfect for beginners and enthusiasts alike.    								\n				\n					\n				\n				\n					\n						\n				\n					 Will materials be provided? \n							\n			\n			\n		\n\n						\n				\n		\n					\n				\n				\n									Yes\, all art materials including brushes\, paints\, and canvas are provided. 								\n				\n					\n				\n				\n					\n						\n				\n					 Is this workshop suitable for complete beginners? \n							\n			\n			\n		\n\n						\n				\n		\n					\n				\n				\n									Absolutely. Our instructors guide you step-by-step through the process. it’s beginner-friendly and fun.  								\n				\n					\n				\n				\n					\n						\n				\n					 How do I register for the workshop? \n							\n			\n			\n		\n\n						\n				\n		\n					\n				\n				\n									You can register online through our website or contact us via WhatsApp/call at 9972944894. Early registration is recommended\, as seats are limited.  								\n				\n					\n				\n				\n					\n						\n				\n					 Do you offer regular painting classes in Bangalore? \n							\n			\n			\n		\n\n						\n				\n		\n					\n				\n				\n									Yes\, BrainArt conducts weekly and monthly art classes for kids\, teens\, and adults at our Bangalore studio. Check our website http://brainart.co  
URL:https://connect.brainart.co/event/clay-ceramic-art-on-mug/
LOCATION:BrainArt
CATEGORIES:Craft,Event,Painting
ATTACH;FMTTYPE=image/jpeg:https://connect.brainart.co/wp-content/uploads/2024/09/featured.jpg
ORGANIZER;CN="Pavithra":MAILTO:pavithra@brainart.co
END:VEVENT
END:VCALENDAR