BEGIN:VCALENDAR
VERSION:2.0
PRODID:-// - ECPv6.15.20//NONSGML v1.0//EN
CALSCALE:GREGORIAN
METHOD:PUBLISH
X-ORIGINAL-URL:https://connect.brainart.co
X-WR-CALDESC:Events for 
REFRESH-INTERVAL;VALUE=DURATION:PT1H
X-Robots-Tag:noindex
X-PUBLISHED-TTL:PT1H
BEGIN:VTIMEZONE
TZID:UTC
BEGIN:STANDARD
TZOFFSETFROM:+0000
TZOFFSETTO:+0000
TZNAME:UTC
DTSTART:20230101T000000
END:STANDARD
END:VTIMEZONE
BEGIN:VEVENT
DTSTART;TZID=UTC:20241027T103000
DTEND;TZID=UTC:20241124T130000
DTSTAMP:20260424T030643
CREATED:20240928T122225Z
LAST-MODIFIED:20241016T082754Z
UID:556-1730025000-1732453200@connect.brainart.co
SUMMARY:Master the Art of Tanjore Painting in 5 Weeks
DESCRIPTION:We are excited to announce a 5-week Tanjore painting course that takes place every Sunday. This unique program offers an immersive experience into the world of traditional Tanjore (Thanjavur) painting\, where students will learn the intricate techniques of this classical Indian art form using natural and long-lasting ingredients like tamarind\, clay\, and chukka kallu. \nWorkshop Details:\n\nCourse Duration: 5 Sundays (2 hours per week)\nDates : Starting from 27th October\nMaterials: All necessary materials\, including natural ingredients\, will be provided at the venue.\nCommitment: Students are expected to dedicate a minimum of 2 hours per week.\nFees: INR 30\,000/- Course fees are inclusive of all materials needed to complete your project.\nView the details of our course here\n\nLearning Tanjore Step-by-Step at Your Own Pace\nThis painting course is structured to ensure that participants can progress through the techniques of Thanjavur painting at their own pace. Over the course of five weeks\, you’ll gradually learn everything from preparing the base with tamarind and clay to applying the final layers of gold and color to your artwork. \nBy the end of this workshop\, you will have created your very own Tanjore painting\, gaining not just a piece of art\, but a deep appreciation for this traditional craft. Whether you’re a beginner or an experienced artist\, this course offers an opportunity to explore a new dimension in traditional Indian painting. \nJoin us for a rich cultural and artistic experience as we continue the tradition of Tanjore painting using time-honored\, sustainable techniques. \nSign up now and become part of this artistic journey!
URL:https://connect.brainart.co/event/art-of-tanjore-painting/
LOCATION:BrainArt
CATEGORIES:Course,Painting
ATTACH;FMTTYPE=image/jpeg:https://connect.brainart.co/wp-content/uploads/2024/09/featured-tanjore.jpg
END:VEVENT
END:VCALENDAR